BEGIN:VCALENDAR
VERSION:2.0
PRODID:-//Onnuri Church of San Jose - ECPv6.15.19//NONSGML v1.0//EN
CALSCALE:GREGORIAN
METHOD:PUBLISH
X-ORIGINAL-URL:https://onnurisj.org
X-WR-CALDESC:Events for Onnuri Church of San Jose
REFRESH-INTERVAL;VALUE=DURATION:PT1H
X-Robots-Tag:noindex
X-PUBLISHED-TTL:PT1H
BEGIN:VTIMEZONE
TZID:UTC
BEGIN:STANDARD
TZOFFSETFROM:+0000
TZOFFSETTO:+0000
TZNAME:UTC
DTSTART:20250101T000000
END:STANDARD
END:VTIMEZONE
BEGIN:VEVENT
DTSTART;VALUE=DATE:20260104
DTEND;VALUE=DATE:20260105
DTSTAMP:20260420T075150
CREATED:20251229T181623Z
LAST-MODIFIED:20251229T181623Z
UID:7359-1767484800-1767571199@onnurisj.org
SUMMARY:신년주일 / 성찬식
DESCRIPTION:
URL:https://onnurisj.org/event/%ec%8b%a0%eb%85%84%ec%a3%bc%ec%9d%bc-%ec%84%b1%ec%b0%ac%ec%8b%9d/
END:VEVENT
BEGIN:VEVENT
DTSTART;TZID=UTC:20260106T060000
DTEND;TZID=UTC:20260110T070000
DTSTAMP:20260420T075150
CREATED:20251229T181816Z
LAST-MODIFIED:20251229T181848Z
UID:7361-1767679200-1768028400@onnurisj.org
SUMMARY:신년특별새벽기도회
DESCRIPTION:
URL:https://onnurisj.org/event/%ec%8b%a0%eb%85%84%ed%8a%b9%eb%b3%84%ec%83%88%eb%b2%bd%ea%b8%b0%eb%8f%84%ed%9a%8c/
END:VEVENT
BEGIN:VEVENT
DTSTART;TZID=UTC:20260117T090000
DTEND;TZID=UTC:20260117T140000
DTSTAMP:20260420T075150
CREATED:20251229T181928Z
LAST-MODIFIED:20251229T181928Z
UID:7363-1768640400-1768658400@onnurisj.org
SUMMARY:신년 직제자 기도회
DESCRIPTION:
URL:https://onnurisj.org/event/%ec%8b%a0%eb%85%84-%ec%a7%81%ec%a0%9c%ec%9e%90-%ea%b8%b0%eb%8f%84%ed%9a%8c/
END:VEVENT
END:VCALENDAR