BEGIN:VCALENDAR
VERSION:2.0
PRODID:-//Onnuri Church of San Jose - ECPv6.15.19//NONSGML v1.0//EN
CALSCALE:GREGORIAN
METHOD:PUBLISH
X-WR-CALNAME:Onnuri Church of San Jose
X-ORIGINAL-URL:https://onnurisj.org
X-WR-CALDESC:Events for Onnuri Church of San Jose
REFRESH-INTERVAL;VALUE=DURATION:PT1H
X-Robots-Tag:noindex
X-PUBLISHED-TTL:PT1H
BEGIN:VTIMEZONE
TZID:UTC
BEGIN:STANDARD
TZOFFSETFROM:+0000
TZOFFSETTO:+0000
TZNAME:UTC
DTSTART:20240101T000000
END:STANDARD
END:VTIMEZONE
BEGIN:VEVENT
DTSTART;VALUE=DATE:20251102
DTEND;VALUE=DATE:20251103
DTSTAMP:20260420T112207
CREATED:20251021T211154Z
LAST-MODIFIED:20251021T211154Z
UID:6810-1762041600-1762127999@onnurisj.org
SUMMARY:67기 새가족반 개강
DESCRIPTION:
URL:https://onnurisj.org/event/67%ea%b8%b0-%ec%83%88%ea%b0%80%ec%a1%b1%eb%b0%98-%ea%b0%9c%ea%b0%95/
END:VEVENT
BEGIN:VEVENT
DTSTART;VALUE=DATE:20251112
DTEND;VALUE=DATE:20251113
DTSTAMP:20260420T112207
CREATED:20251021T211353Z
LAST-MODIFIED:20251021T211439Z
UID:6812-1762905600-1762991999@onnurisj.org
SUMMARY:정책당회
DESCRIPTION:
URL:https://onnurisj.org/event/%ec%a0%95%ec%b1%85%eb%8b%b9%ed%9a%8c/
END:VEVENT
BEGIN:VEVENT
DTSTART;VALUE=DATE:20251116
DTEND;VALUE=DATE:20251117
DTSTAMP:20260420T112207
CREATED:20251021T211427Z
LAST-MODIFIED:20251021T211427Z
UID:6814-1763251200-1763337599@onnurisj.org
SUMMARY:서리집사신청
DESCRIPTION:
URL:https://onnurisj.org/event/%ec%84%9c%eb%a6%ac%ec%a7%91%ec%82%ac%ec%8b%a0%ec%b2%ad/
END:VEVENT
BEGIN:VEVENT
DTSTART;VALUE=DATE:20251123
DTEND;VALUE=DATE:20251124
DTSTAMP:20260420T112207
CREATED:20251021T211518Z
LAST-MODIFIED:20251021T211552Z
UID:6816-1763856000-1763942399@onnurisj.org
SUMMARY:추수감사주일(연합예배: 성찬식 및 세례식)
DESCRIPTION:
URL:https://onnurisj.org/event/%ec%b6%94%ec%88%98%ea%b0%90%ec%82%ac%ec%a3%bc%ec%9d%bc%ec%97%b0%ed%95%a9%ec%98%88%eb%b0%b0/
END:VEVENT
BEGIN:VEVENT
DTSTART;VALUE=DATE:20251126
DTEND;VALUE=DATE:20251130
DTSTAMP:20260420T112207
CREATED:20251021T211625Z
LAST-MODIFIED:20251117T050434Z
UID:6819-1764115200-1764460799@onnurisj.org
SUMMARY:Office Closed(새벽/금요예배 없음)
DESCRIPTION:
URL:https://onnurisj.org/event/office-closed/
END:VEVENT
END:VCALENDAR