BEGIN:VCALENDAR
VERSION:2.0
PRODID:-//Onnuri Church of San Jose - ECPv6.15.19//NONSGML v1.0//EN
CALSCALE:GREGORIAN
METHOD:PUBLISH
X-WR-CALNAME:Onnuri Church of San Jose
X-ORIGINAL-URL:https://onnurisj.org
X-WR-CALDESC:Events for Onnuri Church of San Jose
REFRESH-INTERVAL;VALUE=DURATION:PT1H
X-Robots-Tag:noindex
X-PUBLISHED-TTL:PT1H
BEGIN:VTIMEZONE
TZID:UTC
BEGIN:STANDARD
TZOFFSETFROM:+0000
TZOFFSETTO:+0000
TZNAME:UTC
DTSTART:20240101T000000
END:STANDARD
END:VTIMEZONE
BEGIN:VEVENT
DTSTART;VALUE=DATE:20250728
DTEND;VALUE=DATE:20250803
DTSTAMP:20260420T170354
CREATED:20250613T191029Z
LAST-MODIFIED:20250613T191029Z
UID:1263-1753660800-1754179199@onnurisj.org
SUMMARY:엘살바도르 단기선교
DESCRIPTION:
URL:https://onnurisj.org/event/%ec%97%98%ec%82%b4%eb%b0%94%eb%8f%84%eb%a5%b4-%eb%8b%a8%ea%b8%b0%ec%84%a0%ea%b5%90/
END:VEVENT
BEGIN:VEVENT
DTSTART;TZID=UTC:20250704T083000
DTEND;TZID=UTC:20250704T110000
DTSTAMP:20260420T170354
CREATED:20250613T190746Z
LAST-MODIFIED:20250613T190746Z
UID:1261-1751617800-1751626800@onnurisj.org
SUMMARY:독립기념일 아침식사 봉사
DESCRIPTION:
URL:https://onnurisj.org/event/%eb%8f%85%eb%a6%bd%ea%b8%b0%eb%85%90%ec%9d%bc-%ec%95%84%ec%b9%a8%ec%8b%9d%ec%82%ac-%eb%b4%89%ec%82%ac/
END:VEVENT
BEGIN:VEVENT
DTSTART;VALUE=DATE:20250623
DTEND;VALUE=DATE:20250628
DTSTAMP:20260420T170354
CREATED:20250530T070821Z
LAST-MODIFIED:20250530T070821Z
UID:843-1750636800-1751068799@onnurisj.org
SUMMARY:DL 비전트립
DESCRIPTION:
URL:https://onnurisj.org/event/dl-%eb%b9%84%ec%a0%84%ed%8a%b8%eb%a6%bd/
END:VEVENT
BEGIN:VEVENT
DTSTART;TZID=UTC:20250609T180000
DTEND;TZID=UTC:20250613T203000
DTSTAMP:20260420T170354
CREATED:20250517T075541Z
LAST-MODIFIED:20250517T075541Z
UID:658-1749492000-1749846600@onnurisj.org
SUMMARY:2025 Vacation Bible School
DESCRIPTION:
URL:https://onnurisj.org/event/2025-vacation-bible-school/
END:VEVENT
BEGIN:VEVENT
DTSTART;VALUE=DATE:20250606
DTEND;VALUE=DATE:20250616
DTSTAMP:20260420T170354
CREATED:20250526T044735Z
LAST-MODIFIED:20250526T044735Z
UID:751-1749168000-1750031999@onnurisj.org
SUMMARY:단기선교 - 키프로스
DESCRIPTION:
URL:https://onnurisj.org/event/%eb%8b%a8%ea%b8%b0%ec%84%a0%ea%b5%90-%ed%82%a4%ed%94%84%eb%a1%9c%ec%8a%a4/
END:VEVENT
BEGIN:VEVENT
DTSTART;TZID=UTC:20250509T160000
DTEND;TZID=UTC:20250511T140000
DTSTAMP:20260420T170354
CREATED:20250429T041429Z
LAST-MODIFIED:20250429T064804Z
UID:393-1746806400-1746972000@onnurisj.org
SUMMARY:전교인수양회
DESCRIPTION:
URL:https://onnurisj.org/event/%ec%a0%84%ea%b5%90%ec%9d%b8%ec%88%98%ec%96%91%ed%9a%8c/
LOCATION:Redwood Cristian Park
END:VEVENT
END:VCALENDAR