BEGIN:VCALENDAR
VERSION:2.0
PRODID:-//Onnuri Church of San Jose - ECPv6.15.19//NONSGML v1.0//EN
CALSCALE:GREGORIAN
METHOD:PUBLISH
X-WR-CALNAME:Onnuri Church of San Jose
X-ORIGINAL-URL:https://onnurisj.org
X-WR-CALDESC:Events for Onnuri Church of San Jose
REFRESH-INTERVAL;VALUE=DURATION:PT1H
X-Robots-Tag:noindex
X-PUBLISHED-TTL:PT1H
BEGIN:VTIMEZONE
TZID:UTC
BEGIN:STANDARD
TZOFFSETFROM:+0000
TZOFFSETTO:+0000
TZNAME:UTC
DTSTART:20240101T000000
END:STANDARD
END:VTIMEZONE
BEGIN:VEVENT
DTSTART;TZID=UTC:20250927T090000
DTEND;TZID=UTC:20250927T110000
DTSTAMP:20260420T182045
CREATED:20250815T071023Z
LAST-MODIFIED:20250918T203818Z
UID:4069-1758963600-1758970800@onnurisj.org
SUMMARY:E-waste Recycling
DESCRIPTION:
URL:https://onnurisj.org/event/e-waste-recycling/
END:VEVENT
BEGIN:VEVENT
DTSTART;VALUE=DATE:20250926
DTEND;VALUE=DATE:20250927
DTSTAMP:20260420T182045
CREATED:20250815T071102Z
LAST-MODIFIED:20250924T062544Z
UID:4071-1758844800-1758931199@onnurisj.org
SUMMARY:Brian Kim 찬양집회
DESCRIPTION:
URL:https://onnurisj.org/event/brian-kim-%ec%b0%ac%ec%96%91%ec%a7%91%ed%9a%8c/
END:VEVENT
BEGIN:VEVENT
DTSTART;VALUE=DATE:20250919
DTEND;VALUE=DATE:20250920
DTSTAMP:20260420T182045
CREATED:20250917T014515Z
LAST-MODIFIED:20250917T014515Z
UID:6176-1758240000-1758326399@onnurisj.org
SUMMARY:캔자스시티 단기선교 보고
DESCRIPTION:
URL:https://onnurisj.org/event/%ec%ba%94%ec%9e%90%ec%8a%a4%ec%8b%9c%ed%8b%b0-%eb%8b%a8%ea%b8%b0%ec%84%a0%ea%b5%90-%eb%b3%b4%ea%b3%a0/
END:VEVENT
BEGIN:VEVENT
DTSTART;VALUE=DATE:20250914
DTEND;VALUE=DATE:20250915
DTSTAMP:20260420T182045
CREATED:20250815T070953Z
LAST-MODIFIED:20250815T070953Z
UID:4067-1757808000-1757894399@onnurisj.org
SUMMARY:피택자 임직 및 은퇴예배
DESCRIPTION:
URL:https://onnurisj.org/event/%ed%94%bc%ed%83%9d%ec%9e%90-%ec%9e%84%ec%a7%81-%eb%b0%8f-%ec%9d%80%ed%87%b4%ec%98%88%eb%b0%b0/
END:VEVENT
BEGIN:VEVENT
DTSTART;VALUE=DATE:20250914
DTEND;VALUE=DATE:20250915
DTSTAMP:20260420T182045
CREATED:20250530T071551Z
LAST-MODIFIED:20250815T070011Z
UID:849-1757808000-1757894399@onnurisj.org
SUMMARY:직제자 임직식
DESCRIPTION:9/14/2025
URL:https://onnurisj.org/event/%ec%a7%81%ec%a0%9c%ec%9e%90-%ec%9e%84%ec%a7%81%ec%8b%9d/
END:VEVENT
BEGIN:VEVENT
DTSTART;VALUE=DATE:20250907
DTEND;VALUE=DATE:20250908
DTSTAMP:20260420T182045
CREATED:20250815T070933Z
LAST-MODIFIED:20250815T070933Z
UID:4065-1757203200-1757289599@onnurisj.org
SUMMARY:하반기 홈 개강 / 가을학기 개강
DESCRIPTION:일대일 양육자반\, 파운데이션
URL:https://onnurisj.org/event/%ed%95%98%eb%b0%98%ea%b8%b0-%ed%99%88-%ea%b0%9c%ea%b0%95-%ea%b0%80%ec%9d%84%ed%95%99%ea%b8%b0-%ea%b0%9c%ea%b0%95/
END:VEVENT
BEGIN:VEVENT
DTSTART;VALUE=DATE:20250906
DTEND;VALUE=DATE:20250907
DTSTAMP:20260420T182045
CREATED:20250530T070927Z
LAST-MODIFIED:20250815T061547Z
UID:847-1757116800-1757203199@onnurisj.org
SUMMARY:직분자 산상기도회
DESCRIPTION:9/6/2025
URL:https://onnurisj.org/event/%ec%a7%81%eb%b6%84%ec%9e%90-%ec%82%b0%ec%83%81%ea%b8%b0%eb%8f%84%ed%9a%8c/
END:VEVENT
BEGIN:VEVENT
DTSTART;VALUE=DATE:20250824
DTEND;VALUE=DATE:20250825
DTSTAMP:20260420T182045
CREATED:20250815T070833Z
LAST-MODIFIED:20250815T070833Z
UID:4063-1755993600-1756079999@onnurisj.org
SUMMARY:교육부 진급주일
DESCRIPTION:
URL:https://onnurisj.org/event/%ea%b5%90%ec%9c%a1%eb%b6%80-%ec%a7%84%ea%b8%89%ec%a3%bc%ec%9d%bc/
END:VEVENT
BEGIN:VEVENT
DTSTART;TZID=UTC:20250811T080000
DTEND;TZID=UTC:20250815T170000
DTSTAMP:20260420T182045
CREATED:20250815T070810Z
LAST-MODIFIED:20250815T070810Z
UID:4061-1754899200-1755277200@onnurisj.org
SUMMARY:담임목사 영성주간 (이미준 참석)
DESCRIPTION:
URL:https://onnurisj.org/event/%eb%8b%b4%ec%9e%84%eb%aa%a9%ec%82%ac-%ec%98%81%ec%84%b1%ec%a3%bc%ea%b0%84-%ec%9d%b4%eb%af%b8%ec%a4%80-%ec%b0%b8%ec%84%9d/
END:VEVENT
BEGIN:VEVENT
DTSTART;VALUE=DATE:20250811
DTEND;VALUE=DATE:20250816
DTSTAMP:20260420T182045
CREATED:20250613T191451Z
LAST-MODIFIED:20250815T061034Z
UID:1267-1754870400-1755302399@onnurisj.org
SUMMARY:캔자스시티 단기선교
DESCRIPTION:8/11/2025 – 8/15/2025
URL:https://onnurisj.org/event/%ec%ba%94%ec%9e%90%ec%8a%a4%ec%8b%9c%ed%8b%b0-%eb%8b%a8%ea%b8%b0%ec%84%a0%ea%b5%90/
END:VEVENT
BEGIN:VEVENT
DTSTART;TZID=UTC:20250808T193000
DTEND;TZID=UTC:20250808T210000
DTSTAMP:20260420T182045
CREATED:20250613T191646Z
LAST-MODIFIED:20250613T191646Z
UID:1269-1754681400-1754686800@onnurisj.org
SUMMARY:Back to School 금요예배
DESCRIPTION:
URL:https://onnurisj.org/event/back-to-school-%ea%b8%88%ec%9a%94%ec%98%88%eb%b0%b0/
END:VEVENT
BEGIN:VEVENT
DTSTART;VALUE=DATE:20250805
DTEND;VALUE=DATE:20250809
DTSTAMP:20260420T182045
CREATED:20250613T191357Z
LAST-MODIFIED:20250613T191511Z
UID:1265-1754352000-1754697599@onnurisj.org
SUMMARY:가을학기 특별새벽기도회
DESCRIPTION:
URL:https://onnurisj.org/event/%ea%b0%80%ec%9d%84%ed%95%99%ea%b8%b0-%ed%8a%b9%eb%b3%84%ec%83%88%eb%b2%bd%ea%b8%b0%eb%8f%84%ed%9a%8c/
END:VEVENT
BEGIN:VEVENT
DTSTART;VALUE=DATE:20250728
DTEND;VALUE=DATE:20250803
DTSTAMP:20260420T182045
CREATED:20250613T191029Z
LAST-MODIFIED:20250613T191029Z
UID:1263-1753660800-1754179199@onnurisj.org
SUMMARY:엘살바도르 단기선교
DESCRIPTION:
URL:https://onnurisj.org/event/%ec%97%98%ec%82%b4%eb%b0%94%eb%8f%84%eb%a5%b4-%eb%8b%a8%ea%b8%b0%ec%84%a0%ea%b5%90/
END:VEVENT
BEGIN:VEVENT
DTSTART;TZID=UTC:20250704T083000
DTEND;TZID=UTC:20250704T110000
DTSTAMP:20260420T182045
CREATED:20250613T190746Z
LAST-MODIFIED:20250613T190746Z
UID:1261-1751617800-1751626800@onnurisj.org
SUMMARY:독립기념일 아침식사 봉사
DESCRIPTION:
URL:https://onnurisj.org/event/%eb%8f%85%eb%a6%bd%ea%b8%b0%eb%85%90%ec%9d%bc-%ec%95%84%ec%b9%a8%ec%8b%9d%ec%82%ac-%eb%b4%89%ec%82%ac/
END:VEVENT
BEGIN:VEVENT
DTSTART;VALUE=DATE:20250623
DTEND;VALUE=DATE:20250628
DTSTAMP:20260420T182045
CREATED:20250530T070821Z
LAST-MODIFIED:20250530T070821Z
UID:843-1750636800-1751068799@onnurisj.org
SUMMARY:DL 비전트립
DESCRIPTION:
URL:https://onnurisj.org/event/dl-%eb%b9%84%ec%a0%84%ed%8a%b8%eb%a6%bd/
END:VEVENT
BEGIN:VEVENT
DTSTART;TZID=UTC:20250609T180000
DTEND;TZID=UTC:20250613T203000
DTSTAMP:20260420T182045
CREATED:20250517T075541Z
LAST-MODIFIED:20250517T075541Z
UID:658-1749492000-1749846600@onnurisj.org
SUMMARY:2025 Vacation Bible School
DESCRIPTION:
URL:https://onnurisj.org/event/2025-vacation-bible-school/
END:VEVENT
BEGIN:VEVENT
DTSTART;VALUE=DATE:20250606
DTEND;VALUE=DATE:20250616
DTSTAMP:20260420T182045
CREATED:20250526T044735Z
LAST-MODIFIED:20250526T044735Z
UID:751-1749168000-1750031999@onnurisj.org
SUMMARY:단기선교 - 키프로스
DESCRIPTION:
URL:https://onnurisj.org/event/%eb%8b%a8%ea%b8%b0%ec%84%a0%ea%b5%90-%ed%82%a4%ed%94%84%eb%a1%9c%ec%8a%a4/
END:VEVENT
BEGIN:VEVENT
DTSTART;TZID=UTC:20250509T160000
DTEND;TZID=UTC:20250511T140000
DTSTAMP:20260420T182045
CREATED:20250429T041429Z
LAST-MODIFIED:20250429T064804Z
UID:393-1746806400-1746972000@onnurisj.org
SUMMARY:전교인수양회
DESCRIPTION:
URL:https://onnurisj.org/event/%ec%a0%84%ea%b5%90%ec%9d%b8%ec%88%98%ec%96%91%ed%9a%8c/
LOCATION:Redwood Cristian Park
END:VEVENT
END:VCALENDAR