BEGIN:VCALENDAR
VERSION:2.0
PRODID:-//Onnuri Church of San Jose - ECPv6.15.19//NONSGML v1.0//EN
CALSCALE:GREGORIAN
METHOD:PUBLISH
X-ORIGINAL-URL:https://onnurisj.org
X-WR-CALDESC:Events for Onnuri Church of San Jose
REFRESH-INTERVAL;VALUE=DURATION:PT1H
X-Robots-Tag:noindex
X-PUBLISHED-TTL:PT1H
BEGIN:VTIMEZONE
TZID:UTC
BEGIN:STANDARD
TZOFFSETFROM:+0000
TZOFFSETTO:+0000
TZNAME:UTC
DTSTART:20250101T000000
END:STANDARD
END:VTIMEZONE
BEGIN:VEVENT
DTSTART;VALUE=DATE:20260301
DTEND;VALUE=DATE:20260302
DTSTAMP:20260420T060343
CREATED:20260207T194009Z
LAST-MODIFIED:20260207T194018Z
UID:7548-1772323200-1772409599@onnurisj.org
SUMMARY:봄학기 양육훈련 개강
DESCRIPTION:
URL:https://onnurisj.org/event/%eb%b4%84%ed%95%99%ea%b8%b0-%ec%96%91%ec%9c%a1%ed%9b%88%eb%a0%a8-%ea%b0%9c%ea%b0%95/
END:VEVENT
BEGIN:VEVENT
DTSTART;VALUE=DATE:20260307
DTEND;VALUE=DATE:20260308
DTSTAMP:20260420T060343
CREATED:20260304T225716Z
LAST-MODIFIED:20260304T225716Z
UID:7586-1772841600-1772927999@onnurisj.org
SUMMARY:산타클라라 사랑의 교실 밀알식사봉사
DESCRIPTION:
URL:https://onnurisj.org/event/%ec%82%b0%ed%83%80%ed%81%b4%eb%9d%bc%eb%9d%bc-%ec%82%ac%eb%9e%91%ec%9d%98-%ea%b5%90%ec%8b%a4-%eb%b0%80%ec%95%8c%ec%8b%9d%ec%82%ac%eb%b4%89%ec%82%ac/
END:VEVENT
BEGIN:VEVENT
DTSTART;VALUE=DATE:20260308
DTEND;VALUE=DATE:20260309
DTSTAMP:20260420T060343
CREATED:20260304T225748Z
LAST-MODIFIED:20260304T225748Z
UID:7588-1772928000-1773014399@onnurisj.org
SUMMARY:세례 입교 유아세례 교육 개강
DESCRIPTION:
URL:https://onnurisj.org/event/%ec%84%b8%eb%a1%80-%ec%9e%85%ea%b5%90-%ec%9c%a0%ec%95%84%ec%84%b8%eb%a1%80-%ea%b5%90%ec%9c%a1-%ea%b0%9c%ea%b0%95-2/
END:VEVENT
BEGIN:VEVENT
DTSTART;TZID=UTC:20260320T193000
DTEND;TZID=UTC:20260322T114500
DTSTAMP:20260420T060343
CREATED:20260304T222015Z
LAST-MODIFIED:20260305T234515Z
UID:7578-1774035000-1774179900@onnurisj.org
SUMMARY:창립 30주년 기념 부흥회
DESCRIPTION:
URL:https://onnurisj.org/event/%ec%b0%bd%eb%a6%bd-30%ec%a3%bc%eb%85%84-%ea%b8%b0%eb%85%90-%eb%b6%80%ed%9d%a5%ed%9a%8c/
END:VEVENT
BEGIN:VEVENT
DTSTART;VALUE=DATE:20260325
DTEND;VALUE=DATE:20260326
DTSTAMP:20260420T060343
CREATED:20260304T225815Z
LAST-MODIFIED:20260304T225815Z
UID:7590-1774396800-1774483199@onnurisj.org
SUMMARY:3월 정기당회
DESCRIPTION:
URL:https://onnurisj.org/event/3%ec%9b%94-%ec%a0%95%ea%b8%b0%eb%8b%b9%ed%9a%8c/
END:VEVENT
BEGIN:VEVENT
DTSTART;VALUE=DATE:20260328
DTEND;VALUE=DATE:20260329
DTSTAMP:20260420T060343
CREATED:20260304T225852Z
LAST-MODIFIED:20260304T225852Z
UID:7592-1774656000-1774742399@onnurisj.org
SUMMARY:Church clean up day with UPC\, Work Day
DESCRIPTION:
URL:https://onnurisj.org/event/church-clean-up-day-with-upc-work-day/
END:VEVENT
BEGIN:VEVENT
DTSTART;TZID=UTC:20260330T060000
DTEND;TZID=UTC:20260403T180000
DTSTAMP:20260420T060343
CREATED:20260304T225957Z
LAST-MODIFIED:20260304T225957Z
UID:7594-1774850400-1775239200@onnurisj.org
SUMMARY:고난주간 특별새벽기도회
DESCRIPTION:
URL:https://onnurisj.org/event/%ea%b3%a0%eb%82%9c%ec%a3%bc%ea%b0%84-%ed%8a%b9%eb%b3%84%ec%83%88%eb%b2%bd%ea%b8%b0%eb%8f%84%ed%9a%8c/
END:VEVENT
BEGIN:VEVENT
DTSTART;VALUE=DATE:20260403
DTEND;VALUE=DATE:20260404
DTSTAMP:20260420T060343
CREATED:20260324T161036Z
LAST-MODIFIED:20260324T161036Z
UID:7627-1775174400-1775260799@onnurisj.org
SUMMARY:성금요일예배(Good Friday)
DESCRIPTION:
URL:https://onnurisj.org/event/%ec%84%b1%ea%b8%88%ec%9a%94%ec%9d%bc%ec%98%88%eb%b0%b0good-friday/
END:VEVENT
BEGIN:VEVENT
DTSTART;VALUE=DATE:20260404
DTEND;VALUE=DATE:20260405
DTSTAMP:20260420T060343
CREATED:20260324T161121Z
LAST-MODIFIED:20260324T161121Z
UID:7629-1775260800-1775347199@onnurisj.org
SUMMARY:단기선교학교 개강
DESCRIPTION:
URL:https://onnurisj.org/event/%eb%8b%a8%ea%b8%b0%ec%84%a0%ea%b5%90%ed%95%99%ea%b5%90-%ea%b0%9c%ea%b0%95/
END:VEVENT
BEGIN:VEVENT
DTSTART;VALUE=DATE:20260405
DTEND;VALUE=DATE:20260406
DTSTAMP:20260420T060343
CREATED:20260324T161158Z
LAST-MODIFIED:20260324T161158Z
UID:7631-1775347200-1775433599@onnurisj.org
SUMMARY:부활절 / 세례식/ 성찬식
DESCRIPTION:
URL:https://onnurisj.org/event/%eb%b6%80%ed%99%9c%ec%a0%88-%ec%84%b8%eb%a1%80%ec%8b%9d-%ec%84%b1%ec%b0%ac%ec%8b%9d/
END:VEVENT
BEGIN:VEVENT
DTSTART;TZID=UTC:20260415T080000
DTEND;TZID=UTC:20260418T170000
DTSTAMP:20260420T060343
CREATED:20260324T161245Z
LAST-MODIFIED:20260324T161245Z
UID:7633-1776240000-1776531600@onnurisj.org
SUMMARY:캔자스시티 단기선교
DESCRIPTION:
URL:https://onnurisj.org/event/%ec%ba%94%ec%9e%90%ec%8a%a4%ec%8b%9c%ed%8b%b0-%eb%8b%a8%ea%b8%b0%ec%84%a0%ea%b5%90-2/
END:VEVENT
END:VCALENDAR