BEGIN:VCALENDAR
VERSION:2.0
PRODID:-//Onnuri Church of San Jose - ECPv6.15.19//NONSGML v1.0//EN
CALSCALE:GREGORIAN
METHOD:PUBLISH
X-WR-CALNAME:Onnuri Church of San Jose
X-ORIGINAL-URL:https://onnurisj.org
X-WR-CALDESC:Events for Onnuri Church of San Jose
REFRESH-INTERVAL;VALUE=DURATION:PT1H
X-Robots-Tag:noindex
X-PUBLISHED-TTL:PT1H
BEGIN:VTIMEZONE
TZID:UTC
BEGIN:STANDARD
TZOFFSETFROM:+0000
TZOFFSETTO:+0000
TZNAME:UTC
DTSTART:20240101T000000
END:STANDARD
END:VTIMEZONE
BEGIN:VEVENT
DTSTART;VALUE=DATE:20251231
DTEND;VALUE=DATE:20260101
DTSTAMP:20260420T093817
CREATED:20251216T184112Z
LAST-MODIFIED:20251216T184112Z
UID:7340-1767139200-1767225599@onnurisj.org
SUMMARY:송구영신예배
DESCRIPTION:
URL:https://onnurisj.org/event/%ec%86%a1%ea%b5%ac%ec%98%81%ec%8b%a0%ec%98%88%eb%b0%b0/
END:VEVENT
END:VCALENDAR