BEGIN:VCALENDAR
VERSION:2.0
PRODID:-//Onnuri Church of San Jose - ECPv6.15.19//NONSGML v1.0//EN
CALSCALE:GREGORIAN
METHOD:PUBLISH
X-ORIGINAL-URL:https://onnurisj.org
X-WR-CALDESC:Events for Onnuri Church of San Jose
REFRESH-INTERVAL;VALUE=DURATION:PT1H
X-Robots-Tag:noindex
X-PUBLISHED-TTL:PT1H
BEGIN:VTIMEZONE
TZID:UTC
BEGIN:STANDARD
TZOFFSETFROM:+0000
TZOFFSETTO:+0000
TZNAME:UTC
DTSTART:20240101T000000
END:STANDARD
END:VTIMEZONE
BEGIN:VEVENT
DTSTART;VALUE=DATE:20251224
DTEND;VALUE=DATE:20251225
DTSTAMP:20260420T112359
CREATED:20251117T051040Z
LAST-MODIFIED:20251117T051040Z
UID:7150-1766534400-1766620799@onnurisj.org
SUMMARY:성탄 전야 예배 (유니온 교회)
DESCRIPTION:
URL:https://onnurisj.org/event/%ec%84%b1%ed%83%84-%ec%a0%84%ec%95%bc-%ec%98%88%eb%b0%b0-%ec%9c%a0%eb%8b%88%ec%98%a8-%ea%b5%90%ed%9a%8c/
END:VEVENT
END:VCALENDAR