BEGIN:VCALENDAR
VERSION:2.0
PRODID:-//Onnuri Church of San Jose - ECPv6.15.19//NONSGML v1.0//EN
CALSCALE:GREGORIAN
METHOD:PUBLISH
X-WR-CALNAME:Onnuri Church of San Jose
X-ORIGINAL-URL:https://onnurisj.org
X-WR-CALDESC:Events for Onnuri Church of San Jose
REFRESH-INTERVAL;VALUE=DURATION:PT1H
X-Robots-Tag:noindex
X-PUBLISHED-TTL:PT1H
BEGIN:VTIMEZONE
TZID:UTC
BEGIN:STANDARD
TZOFFSETFROM:+0000
TZOFFSETTO:+0000
TZNAME:UTC
DTSTART:20240101T000000
END:STANDARD
END:VTIMEZONE
BEGIN:VEVENT
DTSTART;VALUE=DATE:20251220
DTEND;VALUE=DATE:20251221
DTSTAMP:20260420T112116
CREATED:20251216T190226Z
LAST-MODIFIED:20251216T190226Z
UID:7342-1766188800-1766275199@onnurisj.org
SUMMARY:단기선교인의 날
DESCRIPTION:
URL:https://onnurisj.org/event/%eb%8b%a8%ea%b8%b0%ec%84%a0%ea%b5%90%ec%9d%b8%ec%9d%98-%eb%82%a0/
END:VEVENT
END:VCALENDAR