BEGIN:VCALENDAR
VERSION:2.0
PRODID:-//Onnuri Church of San Jose - ECPv6.15.19//NONSGML v1.0//EN
CALSCALE:GREGORIAN
METHOD:PUBLISH
X-WR-CALNAME:Onnuri Church of San Jose
X-ORIGINAL-URL:https://onnurisj.org
X-WR-CALDESC:Events for Onnuri Church of San Jose
REFRESH-INTERVAL;VALUE=DURATION:PT1H
X-Robots-Tag:noindex
X-PUBLISHED-TTL:PT1H
BEGIN:VTIMEZONE
TZID:UTC
BEGIN:STANDARD
TZOFFSETFROM:+0000
TZOFFSETTO:+0000
TZNAME:UTC
DTSTART:20240101T000000
END:STANDARD
END:VTIMEZONE
BEGIN:VEVENT
DTSTART;VALUE=DATE:20251219
DTEND;VALUE=DATE:20251220
DTSTAMP:20260420T112116
CREATED:20251117T050923Z
LAST-MODIFIED:20251117T050923Z
UID:7148-1766102400-1766188799@onnurisj.org
SUMMARY:교육부 성탄축하 예배
DESCRIPTION:
URL:https://onnurisj.org/event/%ea%b5%90%ec%9c%a1%eb%b6%80-%ec%84%b1%ed%83%84%ec%b6%95%ed%95%98-%ec%98%88%eb%b0%b0/
END:VEVENT
END:VCALENDAR