BEGIN:VCALENDAR
VERSION:2.0
PRODID:-//Onnuri Church of San Jose - ECPv6.15.19//NONSGML v1.0//EN
CALSCALE:GREGORIAN
METHOD:PUBLISH
X-ORIGINAL-URL:https://onnurisj.org
X-WR-CALDESC:Events for Onnuri Church of San Jose
REFRESH-INTERVAL;VALUE=DURATION:PT1H
X-Robots-Tag:noindex
X-PUBLISHED-TTL:PT1H
BEGIN:VTIMEZONE
TZID:UTC
BEGIN:STANDARD
TZOFFSETFROM:+0000
TZOFFSETTO:+0000
TZNAME:UTC
DTSTART:20240101T000000
END:STANDARD
END:VTIMEZONE
BEGIN:VEVENT
DTSTART;VALUE=DATE:20251212
DTEND;VALUE=DATE:20251213
DTSTAMP:20260420T113646
CREATED:20251117T050802Z
LAST-MODIFIED:20251117T050802Z
UID:7144-1765497600-1765583999@onnurisj.org
SUMMARY:DL 선교보고
DESCRIPTION:
URL:https://onnurisj.org/event/dl-%ec%84%a0%ea%b5%90%eb%b3%b4%ea%b3%a0/
END:VEVENT
END:VCALENDAR